BEGIN:VCALENDAR
VERSION:2.0
PRODID:-//Paneliquido - ECPv6.10.2//NONSGML v1.0//EN
CALSCALE:GREGORIAN
METHOD:PUBLISH
X-WR-CALNAME:Paneliquido
X-ORIGINAL-URL:https://paneliquido.it
X-WR-CALDESC:Eventi per Paneliquido
REFRESH-INTERVAL;VALUE=DURATION:PT1H
X-Robots-Tag:noindex
X-PUBLISHED-TTL:PT1H
BEGIN:VTIMEZONE
TZID:Europe/Rome
BEGIN:DAYLIGHT
TZOFFSETFROM:+0100
TZOFFSETTO:+0200
TZNAME:CEST
DTSTART:20260329T010000
END:DAYLIGHT
BEGIN:STANDARD
TZOFFSETFROM:+0200
TZOFFSETTO:+0100
TZNAME:CET
DTSTART:20261025T010000
END:STANDARD
END:VTIMEZONE
BEGIN:VEVENT
DTSTART;TZID=Europe/Rome:20260424T180000
DTEND;TZID=Europe/Rome:20260426T160000
DTSTAMP:20260420T091143
CREATED:20260413T195224Z
LAST-MODIFIED:20260416T110452Z
UID:10000160-1777053600-1777219200@paneliquido.it
SUMMARY:LAVAGNA BEER&SPIRITS 2026
DESCRIPTION:IL 25 APRILE\, AL MAREPer il secondo anno (e la terza edizione)\, Paneliquido torna in Liguria\, a Lavagna\, per l’evento che unisce la birra artigianale e i liquori del territorio\, in collaborazione con il liquorificio Breakneck. \n🌊 Beer&Spirits ti aspetta venerdì 24 (dalle 18 all’1)\, sabato 25 (dalle 18 all’1) e domenica 26 aprile (dalle 12 alle 16) nel cuore di Lavagna\, per inaugurare insieme i week-end al mare. \n🍺 Alle nostre spine trovi una selezione dei migliori birrifici artigianali (tra cui Taverna del Vara\, Maltus Faber e On/Off) con proposte di stili e gradazioni differenti. E ovviamente anche tutti i liquori Breakneck! \n🌭 E poi il cibo: tutta la carne alla griglia accuratamente preparata da Uncle Jack\, i panini super succulenti (e anche vegetariani 🌱) di Vizi&Virtù e le famose tasche di Billi preparate da Pane dell’anno 1000\, ripiene di acciughe\, stracciatella\, verdure e molto altro. \n🎧 Ma la musica? Venerdì ti proponiamo un tributo a Vasco Rossi a cura del Tropico del Blasco\, mentre sabato la Banda Martinelli ti propone il meglio del rock folk italiano. \n📍Piazza Marconi–Lavagna (Genova). \n🎟️ INGRESSO GRATUITO. \n🤝🏻 Evento realizzato da Paneliquido e da Breakneck\, con il patrocinio del Comune di Lavagna.
URL:https://paneliquido.it/evento/lavagna-beerspirits-2026/
LOCATION:piazza Marconi\, piazza Marconi\, Lavagna\, Italy
CATEGORIES:Beer Park
ATTACH;FMTTYPE=image/png:https://paneliquido.it/wp-content/uploads/2026/04/BS-HEADER-SITO.png
ORGANIZER;CN="Paneliquido":MAILTO:info@paneliquido.it
END:VEVENT
BEGIN:VEVENT
DTSTART;TZID=Europe/Rome:20260424T180000
DTEND;TZID=Europe/Rome:20260426T220000
DTSTAMP:20260420T091143
CREATED:20260410T181658Z
LAST-MODIFIED:20260419T205801Z
UID:10000158-1777053600-1777240800@paneliquido.it
SUMMARY:OV BEER PARK 2026
DESCRIPTION:IL BEER PARK DI OVPer la prima volta\, Paneliquido arriva a Busto Arsizio\, nel contesto del Museo del Tessile\, luogo storico della città. \n🧵 Venerdì 24 (dalle 18 all’1)\, sabato 25 (dalle 18 all’1) e domenica 26 aprile (dalle 16 alle 22) il nostro Beer Park ti aspetta con una tap list\, esclusivamente a cura di Orso Verde: troverai infatti tutte le loro birre più iconiche: la Chiara\, la Nubia\, l’Amaranta\, la IPA Fever\, la Vlaander e molte altre. E per l’occasione apriremo anche un paio di botticelle! \n🍔 Ma cosa si mangia? Basulon ci porta i suoi super hamburger (anche veg 🌱)\, Lo stecchino d’oro gli autentici arrosticini abruzzesi ed Edro una frittura di pesce di altissimo livello. E poi i dolci\, a cura di Dolci vagabondi con crêpes\, waffle\, fragole&cioccolato. \n🎸 E due serate di musica dal vivo: il venerdì con i SottoSopra\, una rock&blues cover band\, e il sabato con I parrucconi\, una dance party band che fa ballare tutti\, ma proprio tutti. \n📍Museo del Tessile (via Volta\, 6)-Busto Arsizio (Varese). \n🎟️ INGRESSO GRATUITO. \n🤝🏻 Evento realizzato con il patrocinio del Comune di Busto Arsizio.
URL:https://paneliquido.it/evento/ov-beer-park-2026/
LOCATION:Museo del Tessile\, Via Volta\, 6\, Busto Arsizio\, 21052\, Italy
CATEGORIES:Beer Park
ATTACH;FMTTYPE=image/png:https://paneliquido.it/wp-content/uploads/2026/04/HEADER-SITO-BEER-PARK-ov.png
ORGANIZER;CN="Paneliquido":MAILTO:info@paneliquido.it
END:VEVENT
BEGIN:VEVENT
DTSTART;TZID=Europe/Rome:20260501T180000
DTEND;TZID=Europe/Rome:20260503T220000
DTSTAMP:20260420T091143
CREATED:20260419T202800Z
LAST-MODIFIED:20260419T202800Z
UID:10000161-1777658400-1777845600@paneliquido.it
SUMMARY:SARONNO SOUND FESTIVAL 2026
DESCRIPTION:SARONNO SOUND FESTIVAL\, LA PRIMA EDIZIONEUn evento nuovo\, in una location nuova. \n🗓️ Venerdì 1 (dalle 18 all’1)\, sabato 2 (dalle 18 all’1) e domenica 3 maggio (dalle 16 alle 22) il Comune di Saronno\, in collaborazione con Paneliquido\, organizza la prima edizione di Saronno Sound Festival\, un week-end dedicato alla musica dal vivo\, accompagnata dalla birra artigianale e dallo street-food. \n🎸 La proposta artistica è davvero molto ricca e varia: venerdì inaugura il festival May One (rapper classe 2001 di Turate che racconta la provincia dagli occhi di cerca il coraggio di essere se stesso)\, poi tocca ai Lily and the Valley (impegnati nell’alternative rock indipendente)\, continuiamo con gli SkaBomber (trio ska con l’obiettivo di rivisitare i brani storici della musica italiana in stile ska e con l’aggiunta di parti elettroniche) e concludono il primo giorno i Circus Punk (duo di Seregno che spazia dal blues al grunge\, dal punk al cantautorato italiano); il sabato è tutto dedicato a Max Mania\, band di tributo a Max Pezzali che da anni calca la scena nazionale; nemmeno la domenica siamo senza musica: Le stanze della musica\, orchestra nata cinque anni fa presso la scuola di musica di Saronno\, affronta diversi generi musicali\, offrendo al pubblico uno spettacolo coinvolgente ed emozionante. \n🍺 Alle nostre spine trovi una selezione di birre artigianali\, di gradazioni e generi differenti. \n🍔 E cosa si mangia? Lo stecchino d’oro ci porta gli autentici arrosticini abruzzesi\, Edro una squisita frittura di pesce e altre specialità\, Il Baretto propone un classico come hamburger&patatine (anche veg 🌱) e\, visto che c’è sempre posto per il dolce\, Dolci Vagabondi arriva con waffle\, crêpes e frutta col cioccolato. \n📍Parco ex Seminario (via Varese\, 159)-Saronno (Varese). \n🎟️ INGRESSO GRATUITO. \n🤝🏻 Evento organizzato dal Comune di Saronno\, in collaborazione con Paneliquido.
URL:https://paneliquido.it/evento/saronno-sound-festival-2026/
LOCATION:Parco ex Seminario\, via Varese\, 159\, Saronno\, 21047\, Italy
CATEGORIES:Music Festivals
ATTACH;FMTTYPE=image/png:https://paneliquido.it/wp-content/uploads/2026/04/HEADER-SITO.png
ORGANIZER;CN="Paneliquido":MAILTO:info@paneliquido.it
END:VEVENT
END:VCALENDAR