BEGIN:VCALENDAR
VERSION:2.0
PRODID:-//Paneliquido - ECPv6.10.2//NONSGML v1.0//EN
CALSCALE:GREGORIAN
METHOD:PUBLISH
X-ORIGINAL-URL:https://paneliquido.it
X-WR-CALDESC:Eventi per Paneliquido
REFRESH-INTERVAL;VALUE=DURATION:PT1H
X-Robots-Tag:noindex
X-PUBLISHED-TTL:PT1H
BEGIN:VTIMEZONE
TZID:Europe/Rome
BEGIN:DAYLIGHT
TZOFFSETFROM:+0100
TZOFFSETTO:+0200
TZNAME:CEST
DTSTART:20240331T010000
END:DAYLIGHT
BEGIN:STANDARD
TZOFFSETFROM:+0200
TZOFFSETTO:+0100
TZNAME:CET
DTSTART:20241027T010000
END:STANDARD
END:VTIMEZONE
BEGIN:VEVENT
DTSTART;TZID=Europe/Rome:20240726T180000
DTEND;TZID=Europe/Rome:20240728T220000
DTSTAMP:20260424T215300
CREATED:20240713T180117Z
LAST-MODIFIED:20240722T163828Z
UID:10000062-1722016800-1722204000@paneliquido.it
SUMMARY:Santa Maria Hoè Beer Park
DESCRIPTION:UN BEER PARK NEL VERDE🌳 Santa Maria Hoe’ Beer Park è un vero Beer Park Paneliquido\, immerso nel verde. \n🗓️ Ci vediamo VENERDÌ 26 (dalle 18 all’1)\, SABATO 27 (dalle 18 all’1) e DOMENICA 28 LUGLIO (dalle 16 alle 23) presso il Parco Comunale. \n🍻 Per dissetarti\, trovi ben 12 buone birrette artigianali\, selezionate da Paneliquido. \n🍔 E per cenare? \nLa cucina di Sassella Food&Events con una proposta casereccia che ti farà sentire a casa. \n🎸 E ovviamente musica dal vivo: venerdì 26 con i Parrucconi\, sabato 27 con i Black Bay e domenica 28 con The carousel’s dolls. \n🎟️ INGRESSO GRATUITO. \n🤝🏻 Evento realizzato in collaborazione con il Comune di Santa Maria Hoe’.
URL:https://paneliquido.it/evento/santa-maria-hoe-beer-park/
LOCATION:Parco Comunale di santa Maria Hoè\, Via Lombardia\, 2\, Santa Maria Hoè\, Lecco\, 23889\, Italy
CATEGORIES:Beer Park
ATTACH;FMTTYPE=image/jpeg:https://paneliquido.it/wp-content/uploads/2024/07/SANTAMARIAHOE_beer_park_header-sito-scaled.jpg
ORGANIZER;CN="Paneliquido":MAILTO:info@paneliquido.it
END:VEVENT
END:VCALENDAR