BEGIN:VCALENDAR
VERSION:2.0
PRODID:-//Paneliquido - ECPv6.10.2//NONSGML v1.0//EN
CALSCALE:GREGORIAN
METHOD:PUBLISH
X-WR-CALNAME:Paneliquido
X-ORIGINAL-URL:https://paneliquido.it
X-WR-CALDESC:Eventi per Paneliquido
REFRESH-INTERVAL;VALUE=DURATION:PT1H
X-Robots-Tag:noindex
X-PUBLISHED-TTL:PT1H
BEGIN:VTIMEZONE
TZID:Europe/Rome
BEGIN:DAYLIGHT
TZOFFSETFROM:+0100
TZOFFSETTO:+0200
TZNAME:CEST
DTSTART:20240331T010000
END:DAYLIGHT
BEGIN:STANDARD
TZOFFSETFROM:+0200
TZOFFSETTO:+0100
TZNAME:CET
DTSTART:20241027T010000
END:STANDARD
BEGIN:DAYLIGHT
TZOFFSETFROM:+0100
TZOFFSETTO:+0200
TZNAME:CEST
DTSTART:20250330T010000
END:DAYLIGHT
BEGIN:STANDARD
TZOFFSETFROM:+0200
TZOFFSETTO:+0100
TZNAME:CET
DTSTART:20251026T010000
END:STANDARD
END:VTIMEZONE
BEGIN:VEVENT
DTSTART;TZID=Europe/Rome:20250404T190000
DTEND;TZID=Europe/Rome:20250406T220000
DTSTAMP:20260424T215143
CREATED:20250321T170348Z
LAST-MODIFIED:20250331T095436Z
UID:10000120-1743793200-1743976800@paneliquido.it
SUMMARY:Birra & Valtellina Binasco 2025
DESCRIPTION:🏰 AL CASTELLO…CON LA VALTELLINA!🏰 Paneliquido torna al castello visconteo di Binasco con Birra&Valtellina. \n🗓️ Venerdì 4 (dalle 19 alle 23)\, sabato 5 (dalle 19 alle 23) e domenica 6 Aprile (per pranzo dalle 12 alle 15\, per cena dalle 19 alle 22) ti aspettiamo con pizzoccheri\, sciatt\, polenta con formaggio e funghi e molto altro (incluse proposte vegetariane 🌱). \n🍺 Alle spine trovi una selezione del birrificio Legnone di Dubino\, in provincia di Sondrio\, (di cui una senza glutine 🌾). \n🎤 E poi una proposta artistica per tutte e tre le sere: venerdì sera musica dal vivo con Gli svampiti con il loro omaggio a Nanni Svampa e alla canzone milanese (e anche un po’ più a sud 😜)\, sabato sera dj set con il pazzesco Dr Beat dj che ci accompagna da ormai ben quattro anni e la domenica concludiamo con la chitarra e la voce di Beppe Spina. \n 📍Castello visconteo di Binasco. \n⚠️ INFORMAZIONI IMPORTANTI PER LE PRENOTAZIONI ⚠️ \n\nLa prenotazione non è obbligatoria\, ma consigliata. Chi ha prenotato\, potrà usufruire di una fila d’accesso dedicata.\nSono disponibili due turni:\n\n・PRIMO TURNO: dalle 19 alle 21; \n・SECONDO TURNO: dalle 21 a fine evento. \nSe hai prenotato per il primo turno\, puoi arrivare dalle 19 alle 19.20; se hai prenotato per il secondo turno\, puoi arrivare dalle 21 alle 21.20. Dopo questi orari\, la prenotazione non è più considerata valida. \nSe scegli il primo turno\, alle 20.45 dovremo chiederti di liberare il tavolo per permettere una corretta gestione del secondo turno. \n📲 Puoi prenotare esclusivamente su www.paneliquido.it \n🎟️ INGRESSO GRATUITO. \n🤝🏻 Evento realizzato in collaborazione con il comune di Binasco.
URL:https://paneliquido.it/evento/birra-valtellina-binasco-2025/
LOCATION:Castello Visconteo Binasco\, Via G. Matteotti\, 135\, Binasco\, MI\, 20082\, Italia
CATEGORIES:Birra & Cucina
ATTACH;FMTTYPE=image/png:https://paneliquido.it/wp-content/uploads/2024/03/BIRRA_E_VALTELLINA_TREVIGLIO_HEADER-SITO.png
ORGANIZER;CN="Paneliquido":MAILTO:info@paneliquido.it
END:VEVENT
BEGIN:VEVENT
DTSTART;TZID=Europe/Rome:20240510T180000
DTEND;TZID=Europe/Rome:20240512T230000
DTSTAMP:20260424T215143
CREATED:20240424T164105Z
LAST-MODIFIED:20240508T112037Z
UID:10000022-1715364000-1715554800@paneliquido.it
SUMMARY:Binasco Beer Castle
DESCRIPTION:GRANDE FESTA A CORTE!🏰 Ma che bello tornare al castello! \nPer la seconda volta in questa stagione Paneliquido torna al castello visconteo di Binasco\, questa volta con lo storico Beer Castle. \n🗓 VENERDÌ 10 MAGGIO (dalle 18 all’1)\, SABATO 11 (dalle 18 all’1) e DOMENICA 12 (per pranzo dalle 12 alle 15\, per cena dalle 18 alle 22) vi aspetta una selezione di 8 birrifici artigianali\, oltre a cocktail e kefir. \n🍔 Ovviamente abbiamo pensato anche al cibo: ci saranno Basulon con i suoi hamburger incredibili (anche in versione vegana)\, la cucina modenese di Ape Regina e quella peruviana di El Panchito. \n🎸E poi la musica. DAI LA MUSICA OVVIO. Live per tutti e tre i giorni. \nVenerdì arrivano i The Fighettas. Sabato un dj set pazzesco con DR Beat DJ. Domenica il karaoke di Bambo Passero. \n🎟 INGRESSO GRATUITO. \n🤝 Evento realizzato con il patrocinio del Comune di Binasco e in collaborazione con la ProLoco di Binasco.
URL:https://paneliquido.it/evento/binasco-beer-castle/
LOCATION:Castello Visconteo Binasco\, Via G. Matteotti\, 135\, Binasco\, MI\, 20082\, Italia
CATEGORIES:Beer Castle
ATTACH;FMTTYPE=image/jpeg:https://paneliquido.it/wp-content/uploads/2024/04/BINASCO_BEER_CASTLE_24_HEADER-SITO-scaled.jpg
ORGANIZER;CN="Paneliquido":MAILTO:info@paneliquido.it
END:VEVENT
END:VCALENDAR