BEGIN:VCALENDAR
VERSION:2.0
PRODID:-//Paneliquido - ECPv6.10.2//NONSGML v1.0//EN
CALSCALE:GREGORIAN
METHOD:PUBLISH
X-ORIGINAL-URL:https://paneliquido.it
X-WR-CALDESC:Eventi per Paneliquido
REFRESH-INTERVAL;VALUE=DURATION:PT1H
X-Robots-Tag:noindex
X-PUBLISHED-TTL:PT1H
BEGIN:VTIMEZONE
TZID:Europe/Rome
BEGIN:DAYLIGHT
TZOFFSETFROM:+0100
TZOFFSETTO:+0200
TZNAME:CEST
DTSTART:20240331T010000
END:DAYLIGHT
BEGIN:STANDARD
TZOFFSETFROM:+0200
TZOFFSETTO:+0100
TZNAME:CET
DTSTART:20241027T010000
END:STANDARD
END:VTIMEZONE
BEGIN:VEVENT
DTSTART;TZID=Europe/Rome:20240315T180000
DTEND;TZID=Europe/Rome:20240317T220000
DTSTAMP:20260424T232540
CREATED:20240228T094029Z
LAST-MODIFIED:20240314T183547Z
UID:10000011-1710525600-1710712800@paneliquido.it
SUMMARY:San Patrizio Beer Fest
DESCRIPTION:La festa di tutti gli amanti della birra. San Patrizio!☘️ Arriva a Bergamo la prima edizione di San Patrizio a Daste\, organizzata da Bergamo Beer Festival.\n\n🗓️ La bellissima collaborazione tra Paneliquido e Daste prosegue per festeggiare insieme San Patrizio.\n𝗩𝗘𝗡𝗘𝗥𝗗Ì 𝟭𝟱 𝗠𝗔𝗥𝗭𝗢 (dalle 18 alle 2)\, 𝗦𝗔𝗕𝗔𝗧𝗢 𝟭𝟲 (dalle 18 all’1) e 𝗗𝗢𝗠𝗘𝗡𝗜𝗖𝗔 𝟭𝟳 (dalle 16 alle 22) potrete degustare 12 birre artigianali (anche di birrifici bergamaschi 👊🏻😉) di stile irlandese.\n\n🧀 Per fare aperitivo o cenare\, la cucina di Daste preparerà polenta\, formaggi locali e focaccine con pulled pork\, anche nella sua variante pulled vegan cappuccio.\n\n🎸 Ad accompagnarci\, due serate incredibili con i Pink Violence Squad e i Cornoltis.
URL:https://paneliquido.it/evento/san-patrizio-beer-fest/
LOCATION:DASTE Bergamo\, Via Daste e Spalenga\, 15\, Bergamo\, BG\, Italia
CATEGORIES:Beer Park
ATTACH;FMTTYPE=image/jpeg:https://paneliquido.it/wp-content/uploads/2024/02/HEADER_SITO-scaled.jpg
ORGANIZER;CN="Paneliquido":MAILTO:info@paneliquido.it
END:VEVENT
END:VCALENDAR