BEGIN:VCALENDAR
VERSION:2.0
PRODID:-//Paneliquido - ECPv6.10.2//NONSGML v1.0//EN
CALSCALE:GREGORIAN
METHOD:PUBLISH
X-WR-CALNAME:Paneliquido
X-ORIGINAL-URL:https://paneliquido.it
X-WR-CALDESC:Eventi per Paneliquido
REFRESH-INTERVAL;VALUE=DURATION:PT1H
X-Robots-Tag:noindex
X-PUBLISHED-TTL:PT1H
BEGIN:VTIMEZONE
TZID:Europe/Rome
BEGIN:DAYLIGHT
TZOFFSETFROM:+0100
TZOFFSETTO:+0200
TZNAME:CEST
DTSTART:20240331T010000
END:DAYLIGHT
BEGIN:STANDARD
TZOFFSETFROM:+0200
TZOFFSETTO:+0100
TZNAME:CET
DTSTART:20241027T010000
END:STANDARD
BEGIN:DAYLIGHT
TZOFFSETFROM:+0100
TZOFFSETTO:+0200
TZNAME:CEST
DTSTART:20250330T010000
END:DAYLIGHT
BEGIN:STANDARD
TZOFFSETFROM:+0200
TZOFFSETTO:+0100
TZNAME:CET
DTSTART:20251026T010000
END:STANDARD
END:VTIMEZONE
BEGIN:VEVENT
DTSTART;TZID=Europe/Rome:20250501T160000
DTEND;TZID=Europe/Rome:20250504T220000
DTSTAMP:20260424T202158
CREATED:20250422T203820Z
LAST-MODIFIED:20250422T204124Z
UID:10000126-1746115200-1746396000@paneliquido.it
SUMMARY:Malpaga Beer Castle 2025
DESCRIPTION:🏰 MA CHE BEL CASTELLO… QUELLO DI MALPAGA!🗓️ Giovedì 1 (dalle 16 all’1)\, venerdì 2 (dalle 18 all’1)\, sabato 3 (dalle 18 all’1) e domenica 4 Maggio (dalle 16 alle 22) ti aspettiamo con il Beer Castle\, il format ideato per valorizzare i castelli e i luoghi di interesse artistico e storico. \n🍺 Alle spine troverai una selezione di 12 birre artigianali di diversi birrifici e differenti stili. \n🥘 Il menù è a cura di Edro Eventi e\, tra le tante proposte\, ci saranno polenta con taleggio o ratatuille o ragout alla salsiccia\, lasagne fatte in casa\, gustosissimi panini con porchetta\, ma anche con il babaganoush (per soddisfare i vegetariani 🌱)\, oltre a torta di mele e tiramisù. E\, se tutto questo non ti basta\, ci saranno anche Lo stecchino d’oro con i suoi arrosticini abruzzesi e Basulon con tantissimi hamburger diversi (incluso uno veg 🌱). \n🎤 La proposta artistica è pazzesca: giovedì iniziamo con gli Interludio\, venerdì proseguiamo con una versione inedita unplugged dei Cornoltis  e sabato un tributo fantastico a Max Pezzali e agli 883 a cura della 88Band. \n📍Castello di Malpaga a Cavernago. \n🎟️ INGRESSO GRATUITO. \n🤝🏻 Evento realizzato in collaborazione con il Castello di Malpaga e con Edro Eventi.
URL:https://paneliquido.it/evento/malpaga-beer-castle-2025/
LOCATION:Castello Malpaga\, Via G. Marconi 20\, Cavernago\, BG\, 24050\, Italy
CATEGORIES:Beer Castle
ATTACH;FMTTYPE=image/png:https://paneliquido.it/wp-content/uploads/2025/04/bc-header-sito-malpaga-2.png
ORGANIZER;CN="Paneliquido":MAILTO:info@paneliquido.it
END:VEVENT
BEGIN:VEVENT
DTSTART;TZID=Europe/Rome:20240920T180000
DTEND;TZID=Europe/Rome:20240922T220000
DTSTAMP:20260424T202158
CREATED:20240905T145713Z
LAST-MODIFIED:20240920T060642Z
UID:10000111-1726855200-1727042400@paneliquido.it
SUMMARY:Oktobeer Castle Malpaga
DESCRIPTION:L’OKTOBERFEST AL CASTELLO🏰 Questo week-end torniamo a Bergamo\, al Castello di Malpaga. \n🗓️ Venerdì 20 (dalle 18 all’1)\, sabato 21 (dalle 18 all’1) e domenica 22 Settembre (dalle 12 alle 22) ti aspettiamo a Cavernago con l’Oktobeer Castle\, un evento a tema Oktoberfest. \n🍺 Alle nostre spine troverai una selezione di birre artigianali italiane\, ispirate agli stili tedeschi\, di altissima qualità: tutte da degustare per trovare la tua preferita! \n🍗 La cucina sarà a cura di Edro Eventi\, che ha pensato a un menù ad hoc: spätzle\, würstel e crauti\, pulled pork vegan 🌱\, ma anche bretzel\, krapfen e molto altro. \n🎤 E la musica? \nPotrai goderti tre serate di musica dal vivo: venerdì iniziamo con Brassatodrum pronto a far ballare tutti con brani di ieri e di oggi arrangiati in tantissimi modi diversi\, sabato tocca ai 50’s Degrees con la vera essenza del rock and roll\, domenica concludiamo con gli Old but 90 e i successi della musica internazionale anni ‘90. \n🎟️ INGRESSO GRATUITO. \n🤝🏻 Evento realizzato in collaborazione con il Castello di Malpaga e con Edro Eventi.
URL:https://paneliquido.it/evento/oktober-castle-malpaga/
LOCATION:Castello Malpaga\, Via G. Marconi 20\, Cavernago\, BG\, 24050\, Italy
CATEGORIES:Beer Castle
ATTACH;FMTTYPE=image/jpeg:https://paneliquido.it/wp-content/uploads/2024/09/MALPAGA_oktober_CASTLE_header_sito-2-scaled.jpg
ORGANIZER;CN="Paneliquido":MAILTO:info@paneliquido.it
END:VEVENT
BEGIN:VEVENT
DTSTART;TZID=Europe/Rome:20240621T180000
DTEND;TZID=Europe/Rome:20240623T230000
DTSTAMP:20260424T202158
CREATED:20240610T082010Z
LAST-MODIFIED:20240617T114717Z
UID:10000034-1718992800-1719183600@paneliquido.it
SUMMARY:Beer Castle Malpaga
DESCRIPTION:La leggenda vuole che un fantasma si aggiri ancora per le grandi sale dell’antica struttura. Almeno offriamogli una birra!🏰 Il Castello di Malpaga e il suo Giardino degli Scudi: hai presente che incanto? \n🗓 VENERDÌ 21 GIUGNO (dalle 18 all’1)\, SABATO 22 (dalle 18 all’1) e DOMENICA 23 (dalle 12 alle 22) inauguriamo i Beer Castle anche nella bergamasca.  \n🥓 La cucina è quella di Edro Eventi\, con tantissime proposte\, anche vegetariane 🌱. \n🎤 Per tre giorni ci sarà un sottofondo piacevolissimo con i Barfly e gli Old but 90.  \n🎟️ INGRESSO GRATUITO. \n🤝 Evento realizzato in collaborazione con il Castello di Malpaga e con Edro Eventi.
URL:https://paneliquido.it/evento/beer-castle-malpaga/
LOCATION:Castello Malpaga\, Via G. Marconi 20\, Cavernago\, BG\, 24050\, Italy
CATEGORIES:Beer Castle
ATTACH;FMTTYPE=image/jpeg:https://paneliquido.it/wp-content/uploads/2024/06/MALPAGA_BEER_CASTLE_24-header-sito-scaled.jpg
ORGANIZER;CN="Paneliquido":MAILTO:info@paneliquido.it
END:VEVENT
END:VCALENDAR