BEGIN:VCALENDAR
VERSION:2.0
PRODID:-//Paneliquido - ECPv6.10.2//NONSGML v1.0//EN
CALSCALE:GREGORIAN
METHOD:PUBLISH
X-WR-CALNAME:Paneliquido
X-ORIGINAL-URL:https://paneliquido.it
X-WR-CALDESC:Eventi per Paneliquido
REFRESH-INTERVAL;VALUE=DURATION:PT1H
X-Robots-Tag:noindex
X-PUBLISHED-TTL:PT1H
BEGIN:VTIMEZONE
TZID:Europe/Rome
BEGIN:DAYLIGHT
TZOFFSETFROM:+0100
TZOFFSETTO:+0200
TZNAME:CEST
DTSTART:20240331T010000
END:DAYLIGHT
BEGIN:STANDARD
TZOFFSETFROM:+0200
TZOFFSETTO:+0100
TZNAME:CET
DTSTART:20241027T010000
END:STANDARD
BEGIN:DAYLIGHT
TZOFFSETFROM:+0100
TZOFFSETTO:+0200
TZNAME:CEST
DTSTART:20250330T010000
END:DAYLIGHT
BEGIN:STANDARD
TZOFFSETFROM:+0200
TZOFFSETTO:+0100
TZNAME:CET
DTSTART:20251026T010000
END:STANDARD
END:VTIMEZONE
BEGIN:VEVENT
DTSTART;TZID=Europe/Rome:20250606T180000
DTEND;TZID=Europe/Rome:20250608T220000
DTSTAMP:20260424T215939
CREATED:20250528T222445Z
LAST-MODIFIED:20250606T092426Z
UID:10000138-1749232800-1749420000@paneliquido.it
SUMMARY:Fino al parco tutto bene 2025
DESCRIPTION:FINO AL PARCO TUTTO BENEAnche quest’anno torniamo a Fino Mornasco\, con l’attesissimo evento organizzato insieme alla Consulta Giovani. \n🗓️ Venerdì 6\, sabato 7 e domenica 8 Giugno ti aspettiamo presso il parco comunale con tre giorni di musica dal vivo\, street food e buonissima birra artigianale di alta qualità alle spine. \n📍Parco comunale–Fino Mornasco. \n🎟️ INGRESSO GRATUITO. \n🤝🏻 Evento realizzato in collaborazione con la Consulta Giovani e con il patrocinio del comune di Fino Mornasco.
URL:https://paneliquido.it/evento/fino-al-parco-tutto-bene-2025/
LOCATION:Fino Mornasco – Parco Comunale\, Via Leonardo da Vinci 5\, Fino Mornasco\, Co\, 22073\, Italy
CATEGORIES:Beer Park
ATTACH;FMTTYPE=image/jpeg:https://paneliquido.it/wp-content/uploads/2025/05/WhatsApp-Image-2025-05-28-at-09.34.55.jpeg
ORGANIZER;CN="Paneliquido":MAILTO:info@paneliquido.it
END:VEVENT
BEGIN:VEVENT
DTSTART;TZID=Europe/Rome:20240705T180000
DTEND;TZID=Europe/Rome:20240707T220000
DTSTAMP:20260424T215939
CREATED:20240630T090830Z
LAST-MODIFIED:20240702T184753Z
UID:10000048-1720202400-1720389600@paneliquido.it
SUMMARY:Fino Mornasco Music & Beer Park
DESCRIPTION:FINO AL PARCO TUTTO BENE\n🏰 Fino a qui\, tutto bene. Fino a quando ci sono le birrette\, tutto fantastico.  \n🗓 Fino al parco tutto bene è l’evento estivo organizzato da Paneliquido in collaborazione con la Consulta Giovani di Fino Mornasco: birrette+street food+musica. \nQuando? VENERDÌ 5 LUGLIO (dalle 18 all’1)\, SABATO 6 (dalle 18 all’1) e DOMENICA 7 (dalle 18 alle 22) presso il parco comunale di Fino Mornasco.  \n🍔 Per fare un aperitivo o cenare puoi trovare Nannì con la sua cucina romanesca\, Pookie con gli hamburger\, Lo stecchino d’oro con gli arrosticini abruzzesi e A polpi in faccia con tante proposte tutte a base di pesce. \n🎤 E molta musica dal vivo.  \n🎟️ INGRESSO GRATUITO. \n🤝🏻 Evento realizzato in collaborazione con la Consulta Giovani e con il patrocinio del Comune di Fino Mornasco.
URL:https://paneliquido.it/evento/fino-mornasco-beer-park-2024/
LOCATION:Fino Mornasco – Parco Comunale\, Via Leonardo da Vinci 5\, Fino Mornasco\, Co\, 22073\, Italy
CATEGORIES:Beer Park
ATTACH;FMTTYPE=image/jpeg:https://paneliquido.it/wp-content/uploads/2024/06/FINO_BEER_PARK_2024_header-sito-scaled.jpg
ORGANIZER;CN="Paneliquido":MAILTO:info@paneliquido.it
END:VEVENT
END:VCALENDAR