BEGIN:VCALENDAR
VERSION:2.0
PRODID:-//Paneliquido - ECPv6.10.2//NONSGML v1.0//EN
CALSCALE:GREGORIAN
METHOD:PUBLISH
X-WR-CALNAME:Paneliquido
X-ORIGINAL-URL:https://paneliquido.it
X-WR-CALDESC:Eventi per Paneliquido
REFRESH-INTERVAL;VALUE=DURATION:PT1H
X-Robots-Tag:noindex
X-PUBLISHED-TTL:PT1H
BEGIN:VTIMEZONE
TZID:Europe/Rome
BEGIN:DAYLIGHT
TZOFFSETFROM:+0100
TZOFFSETTO:+0200
TZNAME:CEST
DTSTART:20240331T010000
END:DAYLIGHT
BEGIN:STANDARD
TZOFFSETFROM:+0200
TZOFFSETTO:+0100
TZNAME:CET
DTSTART:20241027T010000
END:STANDARD
END:VTIMEZONE
BEGIN:VEVENT
DTSTART;TZID=Europe/Rome:20240726T180000
DTEND;TZID=Europe/Rome:20240728T230000
DTSTAMP:20260424T202154
CREATED:20240713T170227Z
LAST-MODIFIED:20240722T154319Z
UID:10000061-1722016800-1722207600@paneliquido.it
SUMMARY:Mariano Comense Beer Park
DESCRIPTION:UN BEER PARK IN VILLA\n🏛️ Pensa a una villa incantevole come Villa Sormani\, con il suo fresco giardino. \nE poi pensa alla selezione di birrette buone di Paneliquido. \n🗓️ VENERDÌ 26 (dalle 18 all’1)\, SABATO 27 (dalle 18 all’1) e DOMENICA 28 LUGLIO (dalle 18 alle 23) ti aspettiamo con il Mariano Comense Beer Park\, il più classico e apprezzato dei format Paneliquido. \n🥓 Insieme a noi\, la cucina della ProLoco che propone panini con salamella\, arrosticini\, patatine e anche un proposte vegetariane 🌱. \n🎸 E delle belle serate di musica live indipendente: venerdì i Midnight Sushi\, The Worst Horse e i Circus Punk; sabato Snooze \, Mario e il progetto perfetto e Bruce Lagogrigio; domenica concludiamo con un dj set. \n🎟️ INGRESSO GRATUITO. \n🤝🏻 Evento realizzato dalla ProLoco di Mariano Comense\, in collaborazione con Paneliquido e con il patrocinio del Comune di Mariano Comense.
URL:https://paneliquido.it/evento/mariano-comense-beer-park/
LOCATION:Villa Sormani\, Via Palestro 2\, Mariano Comense\, Co\, 22066\, Italy
CATEGORIES:Beer Park
ATTACH;FMTTYPE=image/jpeg:https://paneliquido.it/wp-content/uploads/2024/07/MARIANO_beer_park_HEADER-SITO-scaled.jpg
ORGANIZER;CN="Paneliquido":MAILTO:info@paneliquido.it
END:VEVENT
END:VCALENDAR