BEGIN:VCALENDAR
VERSION:2.0
PRODID:-//Paneliquido - ECPv6.10.2//NONSGML v1.0//EN
CALSCALE:GREGORIAN
METHOD:PUBLISH
X-ORIGINAL-URL:https://paneliquido.it
X-WR-CALDESC:Eventi per Paneliquido
REFRESH-INTERVAL;VALUE=DURATION:PT1H
X-Robots-Tag:noindex
X-PUBLISHED-TTL:PT1H
BEGIN:VTIMEZONE
TZID:Europe/Rome
BEGIN:DAYLIGHT
TZOFFSETFROM:+0100
TZOFFSETTO:+0200
TZNAME:CEST
DTSTART:20240331T010000
END:DAYLIGHT
BEGIN:STANDARD
TZOFFSETFROM:+0200
TZOFFSETTO:+0100
TZNAME:CET
DTSTART:20241027T010000
END:STANDARD
END:VTIMEZONE
BEGIN:VEVENT
DTSTART;TZID=Europe/Rome:20240301T190000
DTEND;TZID=Europe/Rome:20240303T230000
DTSTAMP:20260424T215933
CREATED:20240111T144628Z
LAST-MODIFIED:20240318T123313Z
UID:10000001-1709319600-1709506800@paneliquido.it
SUMMARY:Birra & Caciara Appiano Gentile
DESCRIPTION:Cosa nasce\, quando Paneliquido e Nannì si incontrano? Birra&Caciara!Birra&Caciara è il format di Paneliquido nato dalla felice collaborazione con Nannì Sapori Romaneschi\, progetto di street-food con foodtruck che esporta le eccellenze della tradizione gastronomica dei Castelli Romani\, luoghi suggestivi alle porte della Capitale. \nDopo due anni di stabile sodalizio\, abbiamo pensato di creare un evento che preveda solo loro come protagonisti della cucina. \nBirra&Caciara è un vero e proprio festival della cucina romanesca che propone panini sinceri a base di Porchetta di Ariccia IGP e il meglio dei primi della tradizione capitolina. Anche i vegetariani troveranno più proposte a loro dedicate. \nProtagoniste sono anche le birre di Ritual Lab. Il famosissimo birrificio romano\, già premiato nel 2020\, ha da poco ricevuto il premio di birrificio dell’anno 2024 da UnionBirrai e la sua Tupamaros (una double IPA incredibile) ha ottenuto il primo posto come birra dell’anno 2024. \nBirra&Caciara nasce per non perdere l’occasione di abbinare la buona birra artigianale ai piatti tipici della tradizione romanesca\, ma soprattutto per ricordare che la tavola non è solo mangiare e bere\, ma un momento di connessione e felicità\, specialmente se condivisa.
URL:https://paneliquido.it/evento/birra-caciara-appiano-marzo24/
LOCATION:Villa Rosnati – Appiano Gentile\, Viale S. Martino\, Appiano Gentile\, Co\, 22070\, Italy
CATEGORIES:Birra & Cucina
ATTACH;FMTTYPE=image/jpeg:https://paneliquido.it/wp-content/uploads/2024/01/Header-Birra-e-Caciara_Tavola-disegno-1-scaled.jpg
ORGANIZER;CN="Paneliquido":MAILTO:info@paneliquido.it
END:VEVENT
END:VCALENDAR